BEGIN:VCALENDAR
VERSION:2.0
PRODID:-//InvisionCommunity Events 4.7.23//EN
METHOD:PUBLISH
CALSCALE:GREGORIAN
REFRESH-INTERVAL:PT15M
X-PUBLISHED-TTL:PT15M
X-WR-CALNAME:At My TV
NAME:At My TV
BEGIN:VTIMEZONE
TZID:Europe/London
TZURL:http://tzurl.org/zoneinfo/Europe/London
X-LIC-LOCATION:Europe/London
BEGIN:DAYLIGHT
TZOFFSETFROM:+0000
TZOFFSETTO:+0100
TZNAME:BST
DTSTART:20180325T020000Z
RRULE:FREQ=YEARLY;BYMONTH=3;BYDAY=-1SU
END:DAYLIGHT
BEGIN:STANDARD
TZOFFSETFROM:+0100
TZOFFSETTO:+0000
TZNAME:GMT
DTSTART:20181028T020000Z
RRULE:FREQ=YEARLY;BYMONTH=10;BYDAY=-1SU
END:STANDARD
END:VTIMEZONE
BEGIN:VEVENT
SUMMARY:Chicago Fire 6x18 - When They See Us Coming
DTSTAMP:20180330T060405Z
SEQUENCE:0
UID:84971-2-841ebed20eb198c4569419e99b7bf40a@themidnightzone.com
ORGANIZER;CN="Midnight":midnight@themidnightzone.com
DESCRIPTION:When the FBI takes over Firehouse 51 for an undercovermissio
	n\, Casey and Severide volunteer to assist with theinvestigation. Kidd att
	empts to help Severide come to termswith recent developments he's been man
	aging.
DTSTART:20180413T020000Z
DTEND:20180413T030000Z
END:VEVENT
END:VCALENDAR
