BEGIN:VCALENDAR
VERSION:2.0
PRODID:-//InvisionCommunity Events 4.7.23//EN
METHOD:PUBLISH
CALSCALE:GREGORIAN
REFRESH-INTERVAL:PT15M
X-PUBLISHED-TTL:PT15M
X-WR-CALNAME:At My TV
NAME:At My TV
BEGIN:VTIMEZONE
TZID:Europe/London
TZURL:http://tzurl.org/zoneinfo/Europe/London
X-LIC-LOCATION:Europe/London
BEGIN:DAYLIGHT
TZOFFSETFROM:+0000
TZOFFSETTO:+0100
TZNAME:BST
DTSTART:20180325T020000Z
RRULE:FREQ=YEARLY;BYMONTH=3;BYDAY=-1SU
END:DAYLIGHT
BEGIN:STANDARD
TZOFFSETFROM:+0100
TZOFFSETTO:+0000
TZNAME:GMT
DTSTART:20181028T020000Z
RRULE:FREQ=YEARLY;BYMONTH=10;BYDAY=-1SU
END:STANDARD
END:VTIMEZONE
BEGIN:VEVENT
SUMMARY:Rise 1x5 - We've Got All Our Junk
DTSTAMP:20180331T060404Z
SEQUENCE:0
UID:85042-2-841ebed20eb198c4569419e99b7bf40a@themidnightzone.com
ORGANIZER;CN="Midnight":midnight@themidnightzone.com
DESCRIPTION:After their unresolved confrontation with Gordy\, Lou and Ga
	iltry desperately to get through to him. Lou discovers a crucialelement to
	 the show needs a major overhaul\, while Traceyresists a blossoming romanc
	e. As Gwen reels in the aftermath ofa shocking announcement from her paren
	ts\, Simon finds anunlikely ally. Robbie and Lilette grow closer just as o
	utsideforces conspire to put them at odds\, and Vanessa takes astand.
DTSTART:20180411T010000Z
DTEND:20180411T020000Z
END:VEVENT
END:VCALENDAR
