BEGIN:VCALENDAR
VERSION:2.0
PRODID:-//InvisionCommunity Events 4.7.23//EN
METHOD:PUBLISH
CALSCALE:GREGORIAN
REFRESH-INTERVAL:PT15M
X-PUBLISHED-TTL:PT15M
X-WR-CALNAME:At My TV
NAME:At My TV
BEGIN:VTIMEZONE
TZID:Europe/London
TZURL:http://tzurl.org/zoneinfo/Europe/London
X-LIC-LOCATION:Europe/London
BEGIN:DAYLIGHT
TZOFFSETFROM:+0000
TZOFFSETTO:+0100
TZNAME:BST
DTSTART:20180325T020000Z
RRULE:FREQ=YEARLY;BYMONTH=3;BYDAY=-1SU
END:DAYLIGHT
BEGIN:STANDARD
TZOFFSETFROM:+0100
TZOFFSETTO:+0000
TZNAME:GMT
DTSTART:20181028T020000Z
RRULE:FREQ=YEARLY;BYMONTH=10;BYDAY=-1SU
END:STANDARD
END:VTIMEZONE
BEGIN:VEVENT
SUMMARY:Barry 1x4 - Chapter Four: Commit...To YOU
DTSTAMP:20180402T060403Z
SEQUENCE:0
UID:85093-2-841ebed20eb198c4569419e99b7bf40a@themidnightzone.com
ORGANIZER;CN="Midnight":midnight@themidnightzone.com
DESCRIPTION:Barry finds that distancing himself from Fuches and theChech
	ens might be harder than he thought. Sally is dismayed tolearn that an aud
	ition arranged by a prospective agent hasstrings attached. Gene promises M
	oss a bombshell\, but onlyover dinner. Barry invites a Marine buddy and hi
	s two pals to aparty given by his classmate Natalie\, where Zach\, a risin
	gactor\, threatens Barry's claim on Sally.
DTSTART:20180416T023000Z
DTEND:20180416T030000Z
END:VEVENT
END:VCALENDAR
