BEGIN:VCALENDAR
VERSION:2.0
PRODID:-//InvisionCommunity Events 4.7.23//EN
METHOD:PUBLISH
CALSCALE:GREGORIAN
REFRESH-INTERVAL:PT15M
X-PUBLISHED-TTL:PT15M
X-WR-CALNAME:At My TV
NAME:At My TV
BEGIN:VTIMEZONE
TZID:Europe/London
TZURL:http://tzurl.org/zoneinfo/Europe/London
X-LIC-LOCATION:Europe/London
BEGIN:DAYLIGHT
TZOFFSETFROM:+0000
TZOFFSETTO:+0100
TZNAME:BST
DTSTART:20180325T020000Z
RRULE:FREQ=YEARLY;BYMONTH=3;BYDAY=-1SU
END:DAYLIGHT
BEGIN:STANDARD
TZOFFSETFROM:+0100
TZOFFSETTO:+0000
TZNAME:GMT
DTSTART:20181028T020000Z
RRULE:FREQ=YEARLY;BYMONTH=10;BYDAY=-1SU
END:STANDARD
END:VTIMEZONE
BEGIN:VEVENT
SUMMARY:Worst Cooks in America 13x1 - Hit Me With Your Best Dish
DTSTAMP:20180402T060407Z
SEQUENCE:0
UID:85131-2-841ebed20eb198c4569419e99b7bf40a@themidnightzone.com
ORGANIZER;CN="Midnight":midnight@themidnightzone.com
DESCRIPTION:The new cast of celebrity recruits arrive at Boot Camp\, and
	Anne Burrell and Tyler Florence immediately hit them with theirfirst chall
	enge to cook their signature dishes so the chefs canassess their skills in
	 the kitchen. Then the chefs teach thecelebrities how to make a classic br
	eakfast dish\, and thelesson proves to be disastrous for the clueless cook
	s. AfterAnne and Tyler choose their teams\, the celebrities are readyto of
	ficially start their culinary training.
DTSTART:20180416T010000Z
DTEND:20180416T020000Z
END:VEVENT
END:VCALENDAR
