BEGIN:VCALENDAR
VERSION:2.0
PRODID:-//InvisionCommunity Events 4.7.23//EN
METHOD:PUBLISH
CALSCALE:GREGORIAN
REFRESH-INTERVAL:PT15M
X-PUBLISHED-TTL:PT15M
X-WR-CALNAME:Pogdesign
NAME:Pogdesign
BEGIN:VTIMEZONE
TZID:Europe/London
TZURL:http://tzurl.org/zoneinfo/Europe/London
X-LIC-LOCATION:Europe/London
BEGIN:DAYLIGHT
TZOFFSETFROM:+0000
TZOFFSETTO:+0100
TZNAME:BST
DTSTART:20180325T020000Z
RRULE:FREQ=YEARLY;BYMONTH=3;BYDAY=-1SU
END:DAYLIGHT
BEGIN:STANDARD
TZOFFSETFROM:+0100
TZOFFSETTO:+0000
TZNAME:GMT
DTSTART:20181028T020000Z
RRULE:FREQ=YEARLY;BYMONTH=10;BYDAY=-1SU
END:STANDARD
END:VTIMEZONE
BEGIN:VEVENT
SUMMARY:Empire 4x13 - Of Hardiness is Mother
DTSTAMP:20180405T100400Z
SEQUENCE:0
UID:85350-3-841ebed20eb198c4569419e99b7bf40a@themidnightzone.com
ORGANIZER;CN="Midnight":midnight@themidnightzone.com
DESCRIPTION:Although Lucious pressures Cookie to take it easy\, she can'
	thelp but take matters into her own hands when she receivesunsettling news
	 about an old friend. Meanwhile\, Tiana's new 20for 20 single takes off\, 
	leading to an unexpected change inher demeanor. Also\, Jamal struggles to 
	rebrand his image\,Hakeem adopts a new role as musical mentor and Andre re
	cruitsLucious to help him uncover the truth about Eddie's intentions.
DTSTART:20180418T200000Z
DTEND:20180418T210000Z
END:VEVENT
END:VCALENDAR
