BEGIN:VCALENDAR
VERSION:2.0
PRODID:-//InvisionCommunity Events 4.7.23//EN
METHOD:PUBLISH
CALSCALE:GREGORIAN
REFRESH-INTERVAL:PT15M
X-PUBLISHED-TTL:PT15M
X-WR-CALNAME:Pogdesign
NAME:Pogdesign
BEGIN:VTIMEZONE
TZID:Europe/London
TZURL:http://tzurl.org/zoneinfo/Europe/London
X-LIC-LOCATION:Europe/London
BEGIN:DAYLIGHT
TZOFFSETFROM:+0000
TZOFFSETTO:+0100
TZNAME:BST
DTSTART:20180325T020000Z
RRULE:FREQ=YEARLY;BYMONTH=3;BYDAY=-1SU
END:DAYLIGHT
BEGIN:STANDARD
TZOFFSETFROM:+0100
TZOFFSETTO:+0000
TZNAME:GMT
DTSTART:20181028T020000Z
RRULE:FREQ=YEARLY;BYMONTH=10;BYDAY=-1SU
END:STANDARD
END:VTIMEZONE
BEGIN:VEVENT
SUMMARY:The Originals 5x1 - Where You Left Your Heart
DTSTAMP:20180405T100400Z
SEQUENCE:0
UID:85358-3-841ebed20eb198c4569419e99b7bf40a@themidnightzone.com
ORGANIZER;CN="Midnight":midnight@themidnightzone.com
DESCRIPTION:Desperate to see her father Klaus after seven years\, Hopere
	sorts to drastic measures to bring her father back to NewOrleans. Hayley a
	ttempts to minimize the fallout from Hope'sactions\, but not before news o
	f what she's done ripplesthrough the city. Meanwhile\, Freya's guilt over 
	not being ableto reunite her family gets in the way of her happiness withK
	eelin\, while Rebekah struggles with her inability to fullycommit to Marce
	l. Finally\, struggling without Elijah by hisside\, Klaus' murderous rampa
	ge throughout Europe leads to anunexpected encounter with Caroline Forbes.
DTSTART:20180418T210000Z
DTEND:20180418T220000Z
END:VEVENT
END:VCALENDAR
