BEGIN:VCALENDAR
VERSION:2.0
PRODID:-//InvisionCommunity Events 4.7.23//EN
METHOD:PUBLISH
CALSCALE:GREGORIAN
REFRESH-INTERVAL:PT15M
X-PUBLISHED-TTL:PT15M
X-WR-CALNAME:At My TV
NAME:At My TV
BEGIN:VTIMEZONE
TZID:Europe/London
TZURL:http://tzurl.org/zoneinfo/Europe/London
X-LIC-LOCATION:Europe/London
BEGIN:DAYLIGHT
TZOFFSETFROM:+0000
TZOFFSETTO:+0100
TZNAME:BST
DTSTART:20180325T020000Z
RRULE:FREQ=YEARLY;BYMONTH=3;BYDAY=-1SU
END:DAYLIGHT
BEGIN:STANDARD
TZOFFSETFROM:+0100
TZOFFSETTO:+0000
TZNAME:GMT
DTSTART:20181028T020000Z
RRULE:FREQ=YEARLY;BYMONTH=10;BYDAY=-1SU
END:STANDARD
END:VTIMEZONE
BEGIN:VEVENT
SUMMARY:The City and the City 1x2 - Ul Qoma
DTSTAMP:20180406T060404Z
SEQUENCE:0
UID:85375-2-841ebed20eb198c4569419e99b7bf40a@themidnightzone.com
ORGANIZER;CN="Midnight":midnight@themidnightzone.com
DESCRIPTION:Borlú encounters another roadblock with his investigation i
	ntoMahalia's death when Commissar Gadlem tells him that the casehas been t
	aken over by the Ul Qoman Militsya. Gadlem allowsBorlú to stay on the cas
	e and travel to Ul Qoma\, but purelyon an advisory capacity: the Ul Qoman 
	Militsya are now leadingthe investigation.
DTSTART:20180413T200000Z
DTEND:20180413T210000Z
END:VEVENT
END:VCALENDAR
