BEGIN:VCALENDAR
VERSION:2.0
PRODID:-//InvisionCommunity Events 4.7.23//EN
METHOD:PUBLISH
CALSCALE:GREGORIAN
REFRESH-INTERVAL:PT15M
X-PUBLISHED-TTL:PT15M
X-WR-CALNAME:At My TV
NAME:At My TV
BEGIN:VTIMEZONE
TZID:Europe/London
TZURL:http://tzurl.org/zoneinfo/Europe/London
X-LIC-LOCATION:Europe/London
BEGIN:DAYLIGHT
TZOFFSETFROM:+0000
TZOFFSETTO:+0100
TZNAME:BST
DTSTART:20180325T020000Z
RRULE:FREQ=YEARLY;BYMONTH=3;BYDAY=-1SU
END:DAYLIGHT
BEGIN:STANDARD
TZOFFSETFROM:+0100
TZOFFSETTO:+0000
TZNAME:GMT
DTSTART:20181028T020000Z
RRULE:FREQ=YEARLY;BYMONTH=10;BYDAY=-1SU
END:STANDARD
END:VTIMEZONE
BEGIN:VEVENT
SUMMARY:Greys Anatomy 14x20 - Judgment Day
DTSTAMP:20180406T060405Z
SEQUENCE:0
UID:85381-2-841ebed20eb198c4569419e99b7bf40a@themidnightzone.com
ORGANIZER;CN="Midnight":midnight@themidnightzone.com
DESCRIPTION:During presentations on Grey Sloan Surgical InnovationProtot
	ypes Day\, Arizona shares some cookies from anappreciative patient that\, 
	unbeknownst to her\, contain aspecial ingredient. Meanwhile\, Catherine re
	veals some shockingdetails to Jackson about his grandfather's past\; and J
	o stepsin mid-operation on a major surgery after Bailey and Meredithare do
	wn for the count.
DTSTART:20180420T000000Z
DTEND:20180420T010000Z
END:VEVENT
END:VCALENDAR
