BEGIN:VCALENDAR
VERSION:2.0
PRODID:-//InvisionCommunity Events 4.7.23//EN
METHOD:PUBLISH
CALSCALE:GREGORIAN
REFRESH-INTERVAL:PT15M
X-PUBLISHED-TTL:PT15M
X-WR-CALNAME:At My TV
NAME:At My TV
BEGIN:VTIMEZONE
TZID:Europe/London
TZURL:http://tzurl.org/zoneinfo/Europe/London
X-LIC-LOCATION:Europe/London
BEGIN:DAYLIGHT
TZOFFSETFROM:+0000
TZOFFSETTO:+0100
TZNAME:BST
DTSTART:20180325T020000Z
RRULE:FREQ=YEARLY;BYMONTH=3;BYDAY=-1SU
END:DAYLIGHT
BEGIN:STANDARD
TZOFFSETFROM:+0100
TZOFFSETTO:+0000
TZNAME:GMT
DTSTART:20181028T020000Z
RRULE:FREQ=YEARLY;BYMONTH=10;BYDAY=-1SU
END:STANDARD
END:VTIMEZONE
BEGIN:VEVENT
SUMMARY:Ninja Warrior UK 4x1 - Episode 1
DTSTAMP:20180406T060407Z
SEQUENCE:0
UID:85394-2-841ebed20eb198c4569419e99b7bf40a@themidnightzone.com
ORGANIZER;CN="Midnight":midnight@themidnightzone.com
DESCRIPTION:In the first programme of the new series\, contestants from 
	allwalks of life will compete including\; one of the founders ofParkour\, 
	a PHD student and a charity challenge leader. Alsocompeting in episode one
	 is Project Support Officer MartinHeald who lost his leg as a teenager and
	 is a member of theEngland amputee football team. Viewers will also see so
	me verywell-known faces having a go at the course in this series. Inthe fi
	rst programme\, JLS star and the husband of Ninja Warriorhost Rochelle\, M
	arvin Humes will try his luck on the courseand Towie star Lydia Bright wil
	l give it her all to get pastthe six challenging obstacles.
DTSTART:20180414T173000Z
DTEND:20180414T183000Z
END:VEVENT
END:VCALENDAR
