BEGIN:VCALENDAR
VERSION:2.0
PRODID:-//InvisionCommunity Events 4.7.23//EN
METHOD:PUBLISH
CALSCALE:GREGORIAN
REFRESH-INTERVAL:PT15M
X-PUBLISHED-TTL:PT15M
X-WR-CALNAME:At My TV
NAME:At My TV
BEGIN:VTIMEZONE
TZID:Europe/London
TZURL:http://tzurl.org/zoneinfo/Europe/London
X-LIC-LOCATION:Europe/London
BEGIN:DAYLIGHT
TZOFFSETFROM:+0000
TZOFFSETTO:+0100
TZNAME:BST
DTSTART:20180325T020000Z
RRULE:FREQ=YEARLY;BYMONTH=3;BYDAY=-1SU
END:DAYLIGHT
BEGIN:STANDARD
TZOFFSETFROM:+0100
TZOFFSETTO:+0000
TZNAME:GMT
DTSTART:20181028T020000Z
RRULE:FREQ=YEARLY;BYMONTH=10;BYDAY=-1SU
END:STANDARD
END:VTIMEZONE
BEGIN:VEVENT
SUMMARY:The Circus: Inside the Greatest Political Show on Earth 3x2 
	-Too Many Lawyers
DTSTAMP:20180409T060404Z
SEQUENCE:0
UID:85520-2-841ebed20eb198c4569419e99b7bf40a@themidnightzone.com
ORGANIZER;CN="Midnight":midnight@themidnightzone.com
DESCRIPTION:An ever-growing swirl of legal entanglements continues tosur
	round President Trump. From the ongoing Muellerinvestigation to the Michae
	l Cohen raid and subsequenthearing\, and James Comey's inflammatory book\,
	 the Trumppresidency is under siege. John Heillman interviews MichaelAvena
	tti\, Stormy Daniels' lawyer\, John and Alex Wagner have acolorful dialog 
	with legal heavyweight and Trump supporter AlanDershowitz\, and Mark McKin
	non remembers his old friend BarbaraBush.
DTSTART:20180423T000000Z
DTEND:20180423T003000Z
END:VEVENT
END:VCALENDAR
