BEGIN:VCALENDAR
VERSION:2.0
PRODID:-//InvisionCommunity Events 4.7.23//EN
METHOD:PUBLISH
CALSCALE:GREGORIAN
REFRESH-INTERVAL:PT15M
X-PUBLISHED-TTL:PT15M
X-WR-CALNAME:At My TV
NAME:At My TV
BEGIN:VTIMEZONE
TZID:Europe/London
TZURL:http://tzurl.org/zoneinfo/Europe/London
X-LIC-LOCATION:Europe/London
BEGIN:DAYLIGHT
TZOFFSETFROM:+0000
TZOFFSETTO:+0100
TZNAME:BST
DTSTART:20180325T020000Z
RRULE:FREQ=YEARLY;BYMONTH=3;BYDAY=-1SU
END:DAYLIGHT
BEGIN:STANDARD
TZOFFSETFROM:+0100
TZOFFSETTO:+0000
TZNAME:GMT
DTSTART:20181028T020000Z
RRULE:FREQ=YEARLY;BYMONTH=10;BYDAY=-1SU
END:STANDARD
END:VTIMEZONE
BEGIN:VEVENT
SUMMARY:Life Sentence 1x6 - Who Framed Stella Abbott?
DTSTAMP:20180414T060404Z
SEQUENCE:0
UID:85793-2-841ebed20eb198c4569419e99b7bf40a@themidnightzone.com
ORGANIZER;CN="Midnight":midnight@themidnightzone.com
DESCRIPTION:When Stella and Wes agree to always tell each other the trut
	h\,it becomes a problem for Wes when it comes to Dr. Grant. Stellahelps Ai
	den get a job at her coffee shop\, but she soon beginsto notice Aiden is u
	p to something. When Stella reaches out toWes and her family for help with
	 the situation\, they all agreethat Aiden needs to figure it out on his ow
	n. Meanwhile\,Lizzie and Diego are trying to get things back to normal wit
	hthe kids.
DTSTART:20180428T010000Z
DTEND:20180428T020000Z
END:VEVENT
END:VCALENDAR
