BEGIN:VCALENDAR
VERSION:2.0
PRODID:-//InvisionCommunity Events 4.7.23//EN
METHOD:PUBLISH
CALSCALE:GREGORIAN
REFRESH-INTERVAL:PT15M
X-PUBLISHED-TTL:PT15M
X-WR-CALNAME:At My TV
NAME:At My TV
BEGIN:VTIMEZONE
TZID:Europe/London
TZURL:http://tzurl.org/zoneinfo/Europe/London
X-LIC-LOCATION:Europe/London
BEGIN:DAYLIGHT
TZOFFSETFROM:+0000
TZOFFSETTO:+0100
TZNAME:BST
DTSTART:20180325T020000Z
RRULE:FREQ=YEARLY;BYMONTH=3;BYDAY=-1SU
END:DAYLIGHT
BEGIN:STANDARD
TZOFFSETFROM:+0100
TZOFFSETTO:+0000
TZNAME:GMT
DTSTART:20181028T020000Z
RRULE:FREQ=YEARLY;BYMONTH=10;BYDAY=-1SU
END:STANDARD
END:VTIMEZONE
BEGIN:VEVENT
SUMMARY:Barry 1x6 - Chapter Six: Listen with Your Ears\, React withY
	our Face
DTSTAMP:20180416T060404Z
SEQUENCE:0
UID:85859-2-841ebed20eb198c4569419e99b7bf40a@themidnightzone.com
ORGANIZER;CN="Midnight":midnight@themidnightzone.com
DESCRIPTION:Barry tries to fly solo at a remote airstrip\, but Taylor st
	illwants in\; Vacha looks to exact revenge on the man who killedhis brothe
	r\, despite Pazar's hands-off orders\; Moss tries toend her association wi
	th Gene\, but finds herself drawn to hisclassroom at a critical juncture\;
	 Sally lobbies for a majoracting challenge.
DTSTART:20180430T023000Z
DTEND:20180430T030000Z
END:VEVENT
END:VCALENDAR
