BEGIN:VCALENDAR
VERSION:2.0
PRODID:-//InvisionCommunity Events 4.7.23//EN
METHOD:PUBLISH
CALSCALE:GREGORIAN
REFRESH-INTERVAL:PT15M
X-PUBLISHED-TTL:PT15M
X-WR-CALNAME:At My TV
NAME:At My TV
BEGIN:VTIMEZONE
TZID:Europe/London
TZURL:http://tzurl.org/zoneinfo/Europe/London
X-LIC-LOCATION:Europe/London
BEGIN:DAYLIGHT
TZOFFSETFROM:+0000
TZOFFSETTO:+0100
TZNAME:BST
DTSTART:20180325T020000Z
RRULE:FREQ=YEARLY;BYMONTH=3;BYDAY=-1SU
END:DAYLIGHT
BEGIN:STANDARD
TZOFFSETFROM:+0100
TZOFFSETTO:+0000
TZNAME:GMT
DTSTART:20181028T020000Z
RRULE:FREQ=YEARLY;BYMONTH=10;BYDAY=-1SU
END:STANDARD
END:VTIMEZONE
BEGIN:VEVENT
SUMMARY:Ninja Warrior UK 4x3 - Heat 3
DTSTAMP:20180420T060405Z
SEQUENCE:0
UID:86139-2-841ebed20eb198c4569419e99b7bf40a@themidnightzone.com
ORGANIZER;CN="Midnight":midnight@themidnightzone.com
DESCRIPTION:Ben Shephard\, Rochelle Humes and Chris Kamara present theph
	ysical gameshow. With brand new obstacles to face\, thecourse is more extr
	eme than ever\, and in this episode formerMcFly star Harry Judd\, GB Paral
	ympian Dan Powell and a RainbowUnicorn are among the competitors taking th
	eir turn and tryingto defeat it. Who will be triumphant\, conquer the cour
	se andget the chance to climb the 22-metre rope climb to the top ofMount M
	idoriyama?
DTSTART:20180428T173000Z
DTEND:20180428T183000Z
END:VEVENT
END:VCALENDAR
