BEGIN:VCALENDAR
VERSION:2.0
PRODID:-//InvisionCommunity Events 4.7.23//EN
METHOD:PUBLISH
CALSCALE:GREGORIAN
REFRESH-INTERVAL:PT15M
X-PUBLISHED-TTL:PT15M
X-WR-CALNAME:At My TV
NAME:At My TV
BEGIN:VTIMEZONE
TZID:Europe/London
TZURL:http://tzurl.org/zoneinfo/Europe/London
X-LIC-LOCATION:Europe/London
BEGIN:DAYLIGHT
TZOFFSETFROM:+0000
TZOFFSETTO:+0100
TZNAME:BST
DTSTART:20180325T020000Z
RRULE:FREQ=YEARLY;BYMONTH=3;BYDAY=-1SU
END:DAYLIGHT
BEGIN:STANDARD
TZOFFSETFROM:+0100
TZOFFSETTO:+0000
TZNAME:GMT
DTSTART:20181028T020000Z
RRULE:FREQ=YEARLY;BYMONTH=10;BYDAY=-1SU
END:STANDARD
END:VTIMEZONE
BEGIN:VEVENT
SUMMARY:Once Upon a Time 7x21 - Homecoming
DTSTAMP:20180428T060408Z
SEQUENCE:0
UID:86598-2-841ebed20eb198c4569419e99b7bf40a@themidnightzone.com
ORGANIZER;CN="Midnight":midnight@themidnightzone.com
DESCRIPTION:As the residents of Hyperion Heights celebrate the breaking 
	ofthe curse\, Henry is visited by Wish Rumple\, who's hatched anevil plan 
	to use Ella and Lucy to keep Weaver from destroyingthe Dark One powers. In
	 order to stop him\, Henry\, Roni\,Weaver and Rogers must travel to the Wi
	sh Realm\, home toversions of some of our most beloved and fearsome charac
	ters.In a flashback\, a discouraged Young Henry is visited by WishRumple a
	nd offered a deal that could have tragic consequences.
DTSTART:20180512T000000Z
DTEND:20180512T010000Z
END:VEVENT
END:VCALENDAR
