BEGIN:VCALENDAR
VERSION:2.0
PRODID:-//InvisionCommunity Events 4.7.23//EN
METHOD:PUBLISH
CALSCALE:GREGORIAN
REFRESH-INTERVAL:PT15M
X-PUBLISHED-TTL:PT15M
X-WR-CALNAME:At My TV
NAME:At My TV
BEGIN:VTIMEZONE
TZID:Europe/London
TZURL:http://tzurl.org/zoneinfo/Europe/London
X-LIC-LOCATION:Europe/London
BEGIN:DAYLIGHT
TZOFFSETFROM:+0000
TZOFFSETTO:+0100
TZNAME:BST
DTSTART:20180325T020000Z
RRULE:FREQ=YEARLY;BYMONTH=3;BYDAY=-1SU
END:DAYLIGHT
BEGIN:STANDARD
TZOFFSETFROM:+0100
TZOFFSETTO:+0000
TZNAME:GMT
DTSTART:20181028T020000Z
RRULE:FREQ=YEARLY;BYMONTH=10;BYDAY=-1SU
END:STANDARD
END:VTIMEZONE
BEGIN:VEVENT
SUMMARY:Carter 1x5 - Pig\, Man\, Lion
DTSTAMP:20180608T092407Z
SEQUENCE:0
UID:88290-2-841ebed20eb198c4569419e99b7bf40a@themidnightzone.com
ORGANIZER;CN="Midnight":midnight@themidnightzone.com
DESCRIPTION:A local theatre troupe is performing a play written by\,dire
	cted by and starring an egotistical local actor. A classicbig fish in a sm
	all pond\, the manipulative theatre directorchallenges Harley to shed his 
	star status and prove his actingchops. When an unstable member of the trou
	pe latches ontoHarley\, he must ‘play the part' so she won't do somethin
	gdangerous.
DTSTART:20180613T000000Z
DTEND:20180613T010000Z
END:VEVENT
END:VCALENDAR
