BEGIN:VCALENDAR
VERSION:2.0
PRODID:-//InvisionCommunity Events 4.7.23//EN
METHOD:PUBLISH
CALSCALE:GREGORIAN
REFRESH-INTERVAL:PT15M
X-PUBLISHED-TTL:PT15M
X-WR-CALNAME:At My TV
NAME:At My TV
BEGIN:VTIMEZONE
TZID:Europe/London
TZURL:http://tzurl.org/zoneinfo/Europe/London
X-LIC-LOCATION:Europe/London
BEGIN:DAYLIGHT
TZOFFSETFROM:+0000
TZOFFSETTO:+0100
TZNAME:BST
DTSTART:20180325T020000Z
RRULE:FREQ=YEARLY;BYMONTH=3;BYDAY=-1SU
END:DAYLIGHT
BEGIN:STANDARD
TZOFFSETFROM:+0100
TZOFFSETTO:+0000
TZNAME:GMT
DTSTART:20181028T020000Z
RRULE:FREQ=YEARLY;BYMONTH=10;BYDAY=-1SU
END:STANDARD
END:VTIMEZONE
BEGIN:VEVENT
SUMMARY:Succession 1x5 - I Went to Market
DTSTAMP:20180618T092305Z
SEQUENCE:0
UID:88683-2-841ebed20eb198c4569419e99b7bf40a@themidnightzone.com
ORGANIZER;CN="Midnight":midnight@themidnightzone.com
DESCRIPTION:After hearing Logan's plan to expand to local TV\, Kendallbe
	gins to plot a vote of no confidence against his father. Gregdrives his or
	nery grandfather\, Ewan \, from Canada to New Yorkfor a Thanksgiving reuni
	on with Logan . Tom grows increasinglyconcerned about the terms of his pre
	nuptial agreement with Shiv\, and recruits Greg for a clandestine task. Th
	e family issurprised by Connor's choice of date at Thanksgiving dinner.
DTSTART:20180702T020000Z
DTEND:20180702T030000Z
END:VEVENT
END:VCALENDAR
