BEGIN:VCALENDAR
VERSION:2.0
PRODID:-//InvisionCommunity Events 4.7.23//EN
METHOD:PUBLISH
CALSCALE:GREGORIAN
REFRESH-INTERVAL:PT15M
X-PUBLISHED-TTL:PT15M
X-WR-CALNAME:At My TV
NAME:At My TV
BEGIN:VTIMEZONE
TZID:Europe/London
TZURL:http://tzurl.org/zoneinfo/Europe/London
X-LIC-LOCATION:Europe/London
BEGIN:DAYLIGHT
TZOFFSETFROM:+0000
TZOFFSETTO:+0100
TZNAME:BST
DTSTART:20180325T020000Z
RRULE:FREQ=YEARLY;BYMONTH=3;BYDAY=-1SU
END:DAYLIGHT
BEGIN:STANDARD
TZOFFSETFROM:+0100
TZOFFSETTO:+0000
TZNAME:GMT
DTSTART:20181028T020000Z
RRULE:FREQ=YEARLY;BYMONTH=10;BYDAY=-1SU
END:STANDARD
END:VTIMEZONE
BEGIN:VEVENT
SUMMARY:I'm Dying Up Here 2x9 - Deathbed Confessions
DTSTAMP:20180618T092305Z
SEQUENCE:0
UID:88685-2-841ebed20eb198c4569419e99b7bf40a@themidnightzone.com
ORGANIZER;CN="Midnight":midnight@themidnightzone.com
DESCRIPTION:Roy's lack of improvement puts Goldie in a tight spot. Arnie
	 isforced to bow out of a gig with Edgar. Bill's frustration withGoldie bu
	ilds. Ron catches up with Maggie. Nick helps Cassie inhis quest for forgiv
	eness. Adam and Ralph weigh their options.Amanda may have accidentally thr
	own a wrench into Goldie'splans.
DTSTART:20180702T020000Z
DTEND:20180702T030000Z
END:VEVENT
END:VCALENDAR
