BEGIN:VCALENDAR
VERSION:2.0
PRODID:-//InvisionCommunity Events 4.7.23//EN
METHOD:PUBLISH
CALSCALE:GREGORIAN
REFRESH-INTERVAL:PT15M
X-PUBLISHED-TTL:PT15M
X-WR-CALNAME:At My TV
NAME:At My TV
BEGIN:VTIMEZONE
TZID:Europe/London
TZURL:http://tzurl.org/zoneinfo/Europe/London
X-LIC-LOCATION:Europe/London
BEGIN:DAYLIGHT
TZOFFSETFROM:+0000
TZOFFSETTO:+0100
TZNAME:BST
DTSTART:20180325T020000Z
RRULE:FREQ=YEARLY;BYMONTH=3;BYDAY=-1SU
END:DAYLIGHT
BEGIN:STANDARD
TZOFFSETFROM:+0100
TZOFFSETTO:+0000
TZNAME:GMT
DTSTART:20181028T020000Z
RRULE:FREQ=YEARLY;BYMONTH=10;BYDAY=-1SU
END:STANDARD
END:VTIMEZONE
BEGIN:VEVENT
SUMMARY:The Next Food Network Star 14x4 - Panic on the Panel
DTSTAMP:20180618T092305Z
SEQUENCE:0
UID:88689-2-841ebed20eb198c4569419e99b7bf40a@themidnightzone.com
ORGANIZER;CN="Midnight":midnight@themidnightzone.com
DESCRIPTION:It's the halfway point in the competition\, so for the first
	challenge the finalists are judged on the progress they havemade so far. B
	ut the tables are turned when the competitorsfind out they must judge...th
	emselves. In the secondchallenge\, People Magazine editor-in-chief Jess Ca
	gle splitsthe finalists into two teams\, as the two panels of finalistsmus
	t judge and evaluate Bobby Flay and Giada De Laurentiis'dishes. What the f
	inalists don't know is that the bottom two oneach panel will compete in a 
	sudden death cook-off! The twofinalists who cannot cut it will be sent pac
	king.
DTSTART:20180702T010000Z
DTEND:20180702T020000Z
END:VEVENT
END:VCALENDAR
