BEGIN:VCALENDAR
VERSION:2.0
PRODID:-//InvisionCommunity Events 4.7.23//EN
METHOD:PUBLISH
CALSCALE:GREGORIAN
REFRESH-INTERVAL:PT15M
X-PUBLISHED-TTL:PT15M
X-WR-CALNAME:At My TV
NAME:At My TV
BEGIN:VTIMEZONE
TZID:Europe/London
TZURL:http://tzurl.org/zoneinfo/Europe/London
X-LIC-LOCATION:Europe/London
BEGIN:DAYLIGHT
TZOFFSETFROM:+0000
TZOFFSETTO:+0100
TZNAME:BST
DTSTART:20180325T020000Z
RRULE:FREQ=YEARLY;BYMONTH=3;BYDAY=-1SU
END:DAYLIGHT
BEGIN:STANDARD
TZOFFSETFROM:+0100
TZOFFSETTO:+0000
TZNAME:GMT
DTSTART:20181028T020000Z
RRULE:FREQ=YEARLY;BYMONTH=10;BYDAY=-1SU
END:STANDARD
END:VTIMEZONE
BEGIN:VEVENT
SUMMARY:Love Island 4x32 - Episode 32
DTSTAMP:20180623T102805Z
SEQUENCE:0
UID:88851-2-841ebed20eb198c4569419e99b7bf40a@themidnightzone.com
ORGANIZER;CN="Midnight":midnight@themidnightzone.com
DESCRIPTION:Week five of Love Island continues on ITV2 with another help
	ingof fun\, flirting\, and fallouts in the nation's favouritevilla. It's b
	een a summer that they will never forget butstaying to the end will defini
	tely be easier said than done forour Islanders. With 50\,000 pounds up for
	 grabs for onecouple\, they will do whatever it takes to make it all the w
	ay.
DTSTART:20180705T200000Z
DTEND:20180705T210000Z
END:VEVENT
END:VCALENDAR
