BEGIN:VCALENDAR
VERSION:2.0
PRODID:-//InvisionCommunity Events 4.7.23//EN
METHOD:PUBLISH
CALSCALE:GREGORIAN
REFRESH-INTERVAL:PT15M
X-PUBLISHED-TTL:PT15M
X-WR-CALNAME:At My TV
NAME:At My TV
BEGIN:VTIMEZONE
TZID:Europe/London
TZURL:http://tzurl.org/zoneinfo/Europe/London
X-LIC-LOCATION:Europe/London
BEGIN:DAYLIGHT
TZOFFSETFROM:+0000
TZOFFSETTO:+0100
TZNAME:BST
DTSTART:20180325T020000Z
RRULE:FREQ=YEARLY;BYMONTH=3;BYDAY=-1SU
END:DAYLIGHT
BEGIN:STANDARD
TZOFFSETFROM:+0100
TZOFFSETTO:+0000
TZNAME:GMT
DTSTART:20181028T020000Z
RRULE:FREQ=YEARLY;BYMONTH=10;BYDAY=-1SU
END:STANDARD
END:VTIMEZONE
BEGIN:VEVENT
SUMMARY:Our Girl 3x9 - Episode 9
DTSTAMP:20180623T102806Z
SEQUENCE:0
UID:88857-2-841ebed20eb198c4569419e99b7bf40a@themidnightzone.com
ORGANIZER;CN="Midnight":midnight@themidnightzone.com
DESCRIPTION:The team struggles to meet Bones's expectations\, but the ne
	wleader of 2-Section threatens to send one of them home andbring in anothe
	r medic\, putting Georgie's place at risk. Thesection are assigned to work
	 in refugee camps to help theinflux of refugees coming in from Myanmar\, w
	hich have been setup by Barsha Chowdhrey\, the wife of the local police ch
	ief.Inspector Chowdhrey is known for his hatred of corruption inthe region
	 and at a gala held for the Brigadier\, Bones spots asuspect package place
	d underneath his chair\, prompting him toleap into action.
DTSTART:20180704T200000Z
DTEND:20180704T210000Z
END:VEVENT
END:VCALENDAR
