BEGIN:VCALENDAR
VERSION:2.0
PRODID:-//InvisionCommunity Events 4.7.23//EN
METHOD:PUBLISH
CALSCALE:GREGORIAN
REFRESH-INTERVAL:PT15M
X-PUBLISHED-TTL:PT15M
X-WR-CALNAME:At My TV
NAME:At My TV
BEGIN:VTIMEZONE
TZID:Europe/London
TZURL:http://tzurl.org/zoneinfo/Europe/London
X-LIC-LOCATION:Europe/London
BEGIN:DAYLIGHT
TZOFFSETFROM:+0000
TZOFFSETTO:+0100
TZNAME:BST
DTSTART:20180325T020000Z
RRULE:FREQ=YEARLY;BYMONTH=3;BYDAY=-1SU
END:DAYLIGHT
BEGIN:STANDARD
TZOFFSETFROM:+0100
TZOFFSETTO:+0000
TZNAME:GMT
DTSTART:20181028T020000Z
RRULE:FREQ=YEARLY;BYMONTH=10;BYDAY=-1SU
END:STANDARD
END:VTIMEZONE
BEGIN:VEVENT
SUMMARY:The Next Food Network Star 14x5 - Take This Title and Run wi
	thIt
DTSTAMP:20180625T102804Z
SEQUENCE:0
UID:88900-2-841ebed20eb198c4569419e99b7bf40a@themidnightzone.com
ORGANIZER;CN="Midnight":midnight@themidnightzone.com
DESCRIPTION:With the field narrowed to just six finalists\, the group go
	esHollywood for their first challenge as they must whip up dishesinspired 
	by characters from the new movie Hotel Transylvania 3:Summer Vacation. Spe
	cial guestFran Drescher\, who voices Eunicein the movie\, joins Bobby Flay
	 and Giada De Laurentiis at thejudging table to see which finalists accomp
	lish their task.Then it's back to business when the finalists are asked to
	 givetheir take on some new Food Network titles: Ooey Gooey\, CheatEats an
	d Stacked Snacks. Two finalists each take on a title andare judged head-to
	-head in an intimidating boardroom setting\,led by Bobby and Giada\, and g
	uest judges Loni Love and IronChef Alex Guarnaschelli. In the end\, one fi
	nalist's shot atstardom will be finished.
DTSTART:20180709T010000Z
DTEND:20180709T020000Z
END:VEVENT
END:VCALENDAR
