BEGIN:VCALENDAR
VERSION:2.0
PRODID:-//InvisionCommunity Events 4.7.23//EN
METHOD:PUBLISH
CALSCALE:GREGORIAN
REFRESH-INTERVAL:PT15M
X-PUBLISHED-TTL:PT15M
X-WR-CALNAME:At My TV
NAME:At My TV
BEGIN:VTIMEZONE
TZID:Europe/London
TZURL:http://tzurl.org/zoneinfo/Europe/London
X-LIC-LOCATION:Europe/London
BEGIN:DAYLIGHT
TZOFFSETFROM:+0000
TZOFFSETTO:+0100
TZNAME:BST
DTSTART:20180325T020000Z
RRULE:FREQ=YEARLY;BYMONTH=3;BYDAY=-1SU
END:DAYLIGHT
BEGIN:STANDARD
TZOFFSETFROM:+0100
TZOFFSETTO:+0000
TZNAME:GMT
DTSTART:20181028T020000Z
RRULE:FREQ=YEARLY;BYMONTH=10;BYDAY=-1SU
END:STANDARD
END:VTIMEZONE
BEGIN:VEVENT
SUMMARY:Young & Hungry 5x18 - Young & Bullseye
DTSTAMP:20180628T102803Z
SEQUENCE:0
UID:89021-2-841ebed20eb198c4569419e99b7bf40a@themidnightzone.com
ORGANIZER;CN="Midnight":midnight@themidnightzone.com
DESCRIPTION:Wanting their boyfriends to become friends\, Gabi and Sofiao
	rganize a double date. But when the guys don't hit it off\,their conflict 
	spreads to Gabi and Sofia. Meanwhile\, Yolandameets a handsome doctor when
	 he confuses her with his onlinedate. But needing help to keep up the ruse
	\, Yolanda enlistsElliot and Alan as coaches.
DTSTART:20180719T003000Z
DTEND:20180719T010000Z
END:VEVENT
END:VCALENDAR
