BEGIN:VCALENDAR
VERSION:2.0
PRODID:-//InvisionCommunity Events 4.7.23//EN
METHOD:PUBLISH
CALSCALE:GREGORIAN
REFRESH-INTERVAL:PT15M
X-PUBLISHED-TTL:PT15M
X-WR-CALNAME:At My TV
NAME:At My TV
BEGIN:VTIMEZONE
TZID:Europe/London
TZURL:http://tzurl.org/zoneinfo/Europe/London
X-LIC-LOCATION:Europe/London
BEGIN:DAYLIGHT
TZOFFSETFROM:+0000
TZOFFSETTO:+0100
TZNAME:BST
DTSTART:20180325T020000Z
RRULE:FREQ=YEARLY;BYMONTH=3;BYDAY=-1SU
END:DAYLIGHT
BEGIN:STANDARD
TZOFFSETFROM:+0100
TZOFFSETTO:+0000
TZNAME:GMT
DTSTART:20181028T020000Z
RRULE:FREQ=YEARLY;BYMONTH=10;BYDAY=-1SU
END:STANDARD
END:VTIMEZONE
BEGIN:VEVENT
SUMMARY:Holby City 20x27 - The Anniversary Waltz
DTSTAMP:20180628T102805Z
SEQUENCE:0
UID:89030-2-841ebed20eb198c4569419e99b7bf40a@themidnightzone.com
ORGANIZER;CN="Midnight":midnight@themidnightzone.com
DESCRIPTION:The party celebrating 70 years of the NHS is put on hold whe
	n amajor incident pushes Holby to the limits. Serena is remindedof a patie
	nt she saved many years ago - with the odds stackedagainst her\, and withR
	ic's help\, can she do the sameagain?Jac and Abigail find themselves at od
	ds over a patientset for a heart transplant. But with Jac back at work\, i
	s thetransplant Abigail's only concern?Sheilagh reflects on her stayat Hol
	by and the importance of the NHS. Encouraged by Dom'sfeelings for her gran
	dson\, she gives Lofty one last presentbefore she goes.
DTSTART:20180704T190000Z
DTEND:20180704T200000Z
END:VEVENT
END:VCALENDAR
