BEGIN:VCALENDAR
VERSION:2.0
PRODID:-//InvisionCommunity Events 4.7.23//EN
METHOD:PUBLISH
CALSCALE:GREGORIAN
REFRESH-INTERVAL:PT15M
X-PUBLISHED-TTL:PT15M
X-WR-CALNAME:At My TV
NAME:At My TV
BEGIN:VTIMEZONE
TZID:Europe/London
TZURL:http://tzurl.org/zoneinfo/Europe/London
X-LIC-LOCATION:Europe/London
BEGIN:DAYLIGHT
TZOFFSETFROM:+0000
TZOFFSETTO:+0100
TZNAME:BST
DTSTART:20180325T020000Z
RRULE:FREQ=YEARLY;BYMONTH=3;BYDAY=-1SU
END:DAYLIGHT
BEGIN:STANDARD
TZOFFSETFROM:+0100
TZOFFSETTO:+0000
TZNAME:GMT
DTSTART:20181028T020000Z
RRULE:FREQ=YEARLY;BYMONTH=10;BYDAY=-1SU
END:STANDARD
END:VTIMEZONE
BEGIN:VEVENT
SUMMARY:Marvel's Cloak & Dagger 1x7 - Lotus Eaters
DTSTAMP:20180629T102805Z
SEQUENCE:0
UID:89071-2-841ebed20eb198c4569419e99b7bf40a@themidnightzone.com
ORGANIZER;CN="Midnight":midnight@themidnightzone.com
DESCRIPTION:A mysterious man may be the key for Tandy to finally clear h
	erfather's name. Unfortunately\, getting the answers she needswill be diff
	icult as the man has been in a catatonic state foralmost a decade\, but it
	 might not be so impossible for twopeople with extraordinary powers. With 
	Tyrone alongside tohelp\, the two test their combined powers for the first
	 time.
DTSTART:20180713T000000Z
DTEND:20180713T010000Z
END:VEVENT
END:VCALENDAR
