BEGIN:VCALENDAR
VERSION:2.0
PRODID:-//InvisionCommunity Events 4.7.23//EN
METHOD:PUBLISH
CALSCALE:GREGORIAN
REFRESH-INTERVAL:PT15M
X-PUBLISHED-TTL:PT15M
X-WR-CALNAME:At My TV
NAME:At My TV
BEGIN:VTIMEZONE
TZID:Europe/London
TZURL:http://tzurl.org/zoneinfo/Europe/London
X-LIC-LOCATION:Europe/London
BEGIN:DAYLIGHT
TZOFFSETFROM:+0000
TZOFFSETTO:+0100
TZNAME:BST
DTSTART:20180325T020000Z
RRULE:FREQ=YEARLY;BYMONTH=3;BYDAY=-1SU
END:DAYLIGHT
BEGIN:STANDARD
TZOFFSETFROM:+0100
TZOFFSETTO:+0000
TZNAME:GMT
DTSTART:20181028T020000Z
RRULE:FREQ=YEARLY;BYMONTH=10;BYDAY=-1SU
END:STANDARD
END:VTIMEZONE
BEGIN:VEVENT
SUMMARY:The Next Food Network Star 14x6 - Shark Night Dinner
DTSTAMP:20180702T102804Z
SEQUENCE:0
UID:89151-2-841ebed20eb198c4569419e99b7bf40a@themidnightzone.com
ORGANIZER;CN="Midnight":midnight@themidnightzone.com
DESCRIPTION:In the first challenge the remaining finalists are asked tou
	pdate their family favorites with a culinary twist\, alongwith having to f
	ilm an Instagram story to convey the processwhile they cook. Popular food 
	bloggerMolly Yeh pops in to helpBobby Flay and Giada De Laurentiis decide 
	which competitorsshine. The finalists then head to the aquarium to cater a
	five-course VIP dinner in celebration of the 20th Anniversaryof Shark Nigh
	t. Each course is inspired by an ingredient in adifferent shark's diet\, w
	ith the finalists having toimpressMan vs. Food's Casey Webb\, who helps Bo
	bby Flay andGiada De Laurentiis decide which finalist will be eliminated.
DTSTART:20180716T010000Z
DTEND:20180716T020000Z
END:VEVENT
END:VCALENDAR
