BEGIN:VCALENDAR
VERSION:2.0
PRODID:-//InvisionCommunity Events 4.7.23//EN
METHOD:PUBLISH
CALSCALE:GREGORIAN
REFRESH-INTERVAL:PT15M
X-PUBLISHED-TTL:PT15M
X-WR-CALNAME:At My TV
NAME:At My TV
BEGIN:VTIMEZONE
TZID:Europe/London
TZURL:http://tzurl.org/zoneinfo/Europe/London
X-LIC-LOCATION:Europe/London
BEGIN:DAYLIGHT
TZOFFSETFROM:+0000
TZOFFSETTO:+0100
TZNAME:BST
DTSTART:20180325T020000Z
RRULE:FREQ=YEARLY;BYMONTH=3;BYDAY=-1SU
END:DAYLIGHT
BEGIN:STANDARD
TZOFFSETFROM:+0100
TZOFFSETTO:+0000
TZNAME:GMT
DTSTART:20181028T020000Z
RRULE:FREQ=YEARLY;BYMONTH=10;BYDAY=-1SU
END:STANDARD
END:VTIMEZONE
BEGIN:VEVENT
SUMMARY:8 out of 10 Cats Does Countdown 15x1 - Roisin Conaty\, Jessi
	caHynes\, Sara Pascoe\, Lolly Adefope
DTSTAMP:20180709T102807Z
SEQUENCE:0
UID:89412-2-841ebed20eb198c4569419e99b7bf40a@themidnightzone.com
ORGANIZER;CN="Midnight":midnight@themidnightzone.com
DESCRIPTION:Katherine Ryan guest hosts a very special all female edition
	celebrating 100 years of women's suffrage. Roisin Conaty andJessica Hynes 
	take on Sara Pascoe and Lolly Adefope in theclassic words and numbers quiz
	. Morgana Robinson appears incharacter as Natalie Cassidy alongside Susie 
	Dent in DictionaryCorner\, while maths whizz Rachel Riley looks after then
	umbers.
DTSTART:20180713T200000Z
DTEND:20180713T210000Z
END:VEVENT
END:VCALENDAR
