BEGIN:VCALENDAR
VERSION:2.0
PRODID:-//InvisionCommunity Events 4.7.23//EN
METHOD:PUBLISH
CALSCALE:GREGORIAN
REFRESH-INTERVAL:PT15M
X-PUBLISHED-TTL:PT15M
X-WR-CALNAME:At My TV
NAME:At My TV
BEGIN:VTIMEZONE
TZID:Europe/London
TZURL:http://tzurl.org/zoneinfo/Europe/London
X-LIC-LOCATION:Europe/London
BEGIN:DAYLIGHT
TZOFFSETFROM:+0000
TZOFFSETTO:+0100
TZNAME:BST
DTSTART:20180325T020000Z
RRULE:FREQ=YEARLY;BYMONTH=3;BYDAY=-1SU
END:DAYLIGHT
BEGIN:STANDARD
TZOFFSETFROM:+0100
TZOFFSETTO:+0000
TZNAME:GMT
DTSTART:20181028T020000Z
RRULE:FREQ=YEARLY;BYMONTH=10;BYDAY=-1SU
END:STANDARD
END:VTIMEZONE
BEGIN:VEVENT
SUMMARY:Gordon Ramsay's 24 Hours to Hell & Back 1x6 - Fetch Bistro
DTSTAMP:20180713T102805Z
SEQUENCE:0
UID:89568-2-841ebed20eb198c4569419e99b7bf40a@themidnightzone.com
ORGANIZER;CN="Midnight":midnight@themidnightzone.com
DESCRIPTION:Gordon Ramsay's \"Hell On Wheels\" travels to Fetch Bistro\,
	 arestaurant designed to serve both people and dogs in Wichita\,KS. After 
	intense investigation and surveillance\, Ramsay andhis team discover that 
	the restaurant itself could use somemajor clean-up. Ramsay will try to bri
	ng this failingrestaurant back from the brink of disaster – all in just 
	24hours. Watch\, as the clock ticks down and Ramsay and his teamtransform 
	this restaurant with a spectacular renovation\, afresh new menu and hope f
	or the future.
DTSTART:20180726T010000Z
DTEND:20180726T020000Z
END:VEVENT
END:VCALENDAR
