BEGIN:VCALENDAR
VERSION:2.0
PRODID:-//InvisionCommunity Events 4.7.23//EN
METHOD:PUBLISH
CALSCALE:GREGORIAN
REFRESH-INTERVAL:PT15M
X-PUBLISHED-TTL:PT15M
X-WR-CALNAME:At My TV
NAME:At My TV
BEGIN:VTIMEZONE
TZID:Europe/London
TZURL:http://tzurl.org/zoneinfo/Europe/London
X-LIC-LOCATION:Europe/London
BEGIN:DAYLIGHT
TZOFFSETFROM:+0000
TZOFFSETTO:+0100
TZNAME:BST
DTSTART:20180325T020000Z
RRULE:FREQ=YEARLY;BYMONTH=3;BYDAY=-1SU
END:DAYLIGHT
BEGIN:STANDARD
TZOFFSETFROM:+0100
TZOFFSETTO:+0000
TZNAME:GMT
DTSTART:20181028T020000Z
RRULE:FREQ=YEARLY;BYMONTH=10;BYDAY=-1SU
END:STANDARD
END:VTIMEZONE
BEGIN:VEVENT
SUMMARY:In Search Of 1x2 - Superhumans
DTSTAMP:20180714T102805Z
SEQUENCE:0
UID:89596-2-841ebed20eb198c4569419e99b7bf40a@themidnightzone.com
ORGANIZER;CN="Midnight":midnight@themidnightzone.com
DESCRIPTION:Zach wants to understand how one can be Superhuman. He meets
	 aman who bent the metal frame of car door with his bare hands ina moment 
	of crisis and a man who can feel no pain. Zach alsomeets with a Shaolin wa
	rrior monk who shows him some of thesecrets to his training as he demonstr
	ates breaking a woodstaff over his own head. Zach learns to harness Superh
	umanpowers of his own through demonstrations by the Monk who inturn teache
	s Zach how to break the staff as well.
DTSTART:20180728T020000Z
DTEND:20180728T030000Z
END:VEVENT
END:VCALENDAR
