BEGIN:VCALENDAR
VERSION:2.0
PRODID:-//InvisionCommunity Events 4.7.23//EN
METHOD:PUBLISH
CALSCALE:GREGORIAN
REFRESH-INTERVAL:PT15M
X-PUBLISHED-TTL:PT15M
X-WR-CALNAME:At My TV
NAME:At My TV
BEGIN:VTIMEZONE
TZID:Europe/London
TZURL:http://tzurl.org/zoneinfo/Europe/London
X-LIC-LOCATION:Europe/London
BEGIN:DAYLIGHT
TZOFFSETFROM:+0000
TZOFFSETTO:+0100
TZNAME:BST
DTSTART:20180325T020000Z
RRULE:FREQ=YEARLY;BYMONTH=3;BYDAY=-1SU
END:DAYLIGHT
BEGIN:STANDARD
TZOFFSETFROM:+0100
TZOFFSETTO:+0000
TZNAME:GMT
DTSTART:20181028T020000Z
RRULE:FREQ=YEARLY;BYMONTH=10;BYDAY=-1SU
END:STANDARD
END:VTIMEZONE
BEGIN:VEVENT
SUMMARY:The Bletchley Circle: San Francisco 1x1 - Presidio
DTSTAMP:20180715T102803Z
SEQUENCE:0
UID:89628-2-841ebed20eb198c4569419e99b7bf40a@themidnightzone.com
ORGANIZER;CN="Midnight":midnight@themidnightzone.com
DESCRIPTION:It's 1956\, two years after we last saw our women\, when Jea
	nis confronted with evidence that the killer who struck down aBletchley gi
	rl during the war… has resurfaced in SanFrancisco. With a scrap of war-t
	ime code from an Americancounterpart (a brilliant cryptographer who worked
	 in thePresidio) Jean and Millie set sail to San Francisco to locatesome o
	f those code-breakers\, who they hope might be able tolend support to thei
	r investigations. Decoding the decade-oldteletype message leads them to an
	 underground jazz club in theheart of San Francisco\, where they meet Iris
	 — an Americanmusician and math genius who served at the Presidio during
	 thewar. She\, along with her young engineering prodigy Hailey\, isconvinc
	ed to join forces with their British visitors\, in orderto track a series 
	of murders that have shattered the FillmoreDistrict — a vibrant downtown
	 neighbourhood where Irishappens to live. His twisted signature: cutting o
	ut victims'tongues and drawing an inexplicable box on their palms.
DTSTART:20180725T200000Z
DTEND:20180725T210000Z
END:VEVENT
END:VCALENDAR
