BEGIN:VCALENDAR
VERSION:2.0
PRODID:-//InvisionCommunity Events 4.7.23//EN
METHOD:PUBLISH
CALSCALE:GREGORIAN
REFRESH-INTERVAL:PT15M
X-PUBLISHED-TTL:PT15M
X-WR-CALNAME:At My TV
NAME:At My TV
BEGIN:VTIMEZONE
TZID:Europe/London
TZURL:http://tzurl.org/zoneinfo/Europe/London
X-LIC-LOCATION:Europe/London
BEGIN:DAYLIGHT
TZOFFSETFROM:+0000
TZOFFSETTO:+0100
TZNAME:BST
DTSTART:20180325T020000Z
RRULE:FREQ=YEARLY;BYMONTH=3;BYDAY=-1SU
END:DAYLIGHT
BEGIN:STANDARD
TZOFFSETFROM:+0100
TZOFFSETTO:+0000
TZNAME:GMT
DTSTART:20181028T020000Z
RRULE:FREQ=YEARLY;BYMONTH=10;BYDAY=-1SU
END:STANDARD
END:VTIMEZONE
BEGIN:VEVENT
SUMMARY:Love Island 4x51 - Episode 51
DTSTAMP:20180720T102806Z
SEQUENCE:0
UID:89848-2-841ebed20eb198c4569419e99b7bf40a@themidnightzone.com
ORGANIZER;CN="Midnight":midnight@themidnightzone.com
DESCRIPTION:There are only days to go in paradise\, and the Love Islandg
	ang are making the most of every unforgettable minute of theirlong hot sum
	mer. Tonight the Islanders face plenty more twistsand turns as they battle
	 to be present at the finish. And with50\,000 pounds at stake for the winn
	ing couple\, the questionremains: who's in it for the love and who's only 
	here for themoney?
DTSTART:20180724T200000Z
DTEND:20180724T210000Z
END:VEVENT
END:VCALENDAR
