BEGIN:VCALENDAR
VERSION:2.0
PRODID:-//InvisionCommunity Events 4.7.23//EN
METHOD:PUBLISH
CALSCALE:GREGORIAN
REFRESH-INTERVAL:PT15M
X-PUBLISHED-TTL:PT15M
X-WR-CALNAME:At My TV
NAME:At My TV
BEGIN:VTIMEZONE
TZID:Europe/London
TZURL:http://tzurl.org/zoneinfo/Europe/London
X-LIC-LOCATION:Europe/London
BEGIN:DAYLIGHT
TZOFFSETFROM:+0000
TZOFFSETTO:+0100
TZNAME:BST
DTSTART:20180325T020000Z
RRULE:FREQ=YEARLY;BYMONTH=3;BYDAY=-1SU
END:DAYLIGHT
BEGIN:STANDARD
TZOFFSETFROM:+0100
TZOFFSETTO:+0000
TZNAME:GMT
DTSTART:20181028T020000Z
RRULE:FREQ=YEARLY;BYMONTH=10;BYDAY=-1SU
END:STANDARD
END:VTIMEZONE
BEGIN:VEVENT
SUMMARY:Million Dollar Listing New York 7x7 - Pool Party
DTSTAMP:20180723T102804Z
SEQUENCE:0
UID:89950-2-841ebed20eb198c4569419e99b7bf40a@themidnightzone.com
ORGANIZER;CN="Midnight":midnight@themidnightzone.com
DESCRIPTION:Fredrik lists an infamous Chelsea townhouse with an eccentri
	cseller whose reputation for firing brokers precedes her. Ryanentrusts a P
	ark Slope listing to a brand new agent on histeam\, but his unorthodox met
	hods of selling could cost him aclient. On the other hand\, Steve tries to
	 bounce back from hisrocky launch of the Circa building with a change in s
	trategythat could make or break his future in new development.
DTSTART:20180801T020000Z
DTEND:20180801T030000Z
END:VEVENT
END:VCALENDAR
