BEGIN:VCALENDAR
VERSION:2.0
PRODID:-//InvisionCommunity Events 4.7.23//EN
METHOD:PUBLISH
CALSCALE:GREGORIAN
REFRESH-INTERVAL:PT15M
X-PUBLISHED-TTL:PT15M
X-WR-CALNAME:At My TV
NAME:At My TV
BEGIN:VTIMEZONE
TZID:Europe/London
TZURL:http://tzurl.org/zoneinfo/Europe/London
X-LIC-LOCATION:Europe/London
BEGIN:DAYLIGHT
TZOFFSETFROM:+0000
TZOFFSETTO:+0100
TZNAME:BST
DTSTART:20180325T020000Z
RRULE:FREQ=YEARLY;BYMONTH=3;BYDAY=-1SU
END:DAYLIGHT
BEGIN:STANDARD
TZOFFSETFROM:+0100
TZOFFSETTO:+0000
TZNAME:GMT
DTSTART:20181028T020000Z
RRULE:FREQ=YEARLY;BYMONTH=10;BYDAY=-1SU
END:STANDARD
END:VTIMEZONE
BEGIN:VEVENT
SUMMARY:8 out of 10 Cats Does Countdown 15x4 - Rob Beckett\, Claudia
	Winkleman\, Mr. Swallow\, Joe Wilkinson
DTSTAMP:20180724T102803Z
SEQUENCE:0
UID:89978-2-841ebed20eb198c4569419e99b7bf40a@themidnightzone.com
ORGANIZER;CN="Midnight":midnight@themidnightzone.com
DESCRIPTION:Jimmy Carr hosts a brand new episode of 8 Out of 10 Cats Doe
	sCountdown\, as Sean Lock and Rob Beckett take on Jon Richardsonand Claudi
	a Winkleman. Plus special guests Mr. Swallow and JoeWilkinson join Countdo
	wn regulars Susie Dent and Rachel Rileyfor the classic words and numbers q
	uiz.
DTSTART:20180803T200000Z
DTEND:20180803T210000Z
END:VEVENT
END:VCALENDAR
