BEGIN:VCALENDAR
VERSION:2.0
PRODID:-//InvisionCommunity Events 4.7.23//EN
METHOD:PUBLISH
CALSCALE:GREGORIAN
REFRESH-INTERVAL:PT15M
X-PUBLISHED-TTL:PT15M
X-WR-CALNAME:At My TV
NAME:At My TV
BEGIN:VTIMEZONE
TZID:Europe/London
TZURL:http://tzurl.org/zoneinfo/Europe/London
X-LIC-LOCATION:Europe/London
BEGIN:DAYLIGHT
TZOFFSETFROM:+0000
TZOFFSETTO:+0100
TZNAME:BST
DTSTART:20180325T020000Z
RRULE:FREQ=YEARLY;BYMONTH=3;BYDAY=-1SU
END:DAYLIGHT
BEGIN:STANDARD
TZOFFSETFROM:+0100
TZOFFSETTO:+0000
TZNAME:GMT
DTSTART:20181028T020000Z
RRULE:FREQ=YEARLY;BYMONTH=10;BYDAY=-1SU
END:STANDARD
END:VTIMEZONE
BEGIN:VEVENT
SUMMARY:Man\, Fire\, Food 8x11 - Texas 'Cue-Step in Georgia
DTSTAMP:20180726T102803Z
SEQUENCE:0
UID:90075-2-841ebed20eb198c4569419e99b7bf40a@themidnightzone.com
ORGANIZER;CN="Midnight":midnight@themidnightzone.com
DESCRIPTION:Roger Mooking is in the Peach State visiting two self-taught
	pitmasters who smoke tasty Texas-style barbecue. In Atlanta\,Roger hits up
	 Fox Bros. Bar-B-Q\, which is owned by twinbrothers Jonathan and Justin Fo
	x. Roger and Jonathan load up a1\,000-pound rotisserie smoker with brisket
	s and house-madepork and beef bologna. After the meat is cooked\, Justin s
	howsRoger how to create their two signature sandwiches: theTexacutioner an
	d the Bologna and Cheese. In Augusta\, Georgia\,criminal investigator Chri
	s Campbell trades his badge for apropane torch on the weekends\, when he w
	orks as a caterer whoserves killer barbecue. Roger and Chris fill up his c
	ustom-mademobile rig with seasoned briskets and pork butts. While thehunks
	 of meat soak in the smoke and heat\, they cook up a potof Brunswick stew\
	, a Georgia classic made with smoked beef\,pork\, chicken\, vegetables and
	 barbecue sauce.
DTSTART:20180809T010000Z
DTEND:20180809T013000Z
END:VEVENT
END:VCALENDAR
