BEGIN:VCALENDAR
VERSION:2.0
PRODID:-//InvisionCommunity Events 4.7.23//EN
METHOD:PUBLISH
CALSCALE:GREGORIAN
REFRESH-INTERVAL:PT15M
X-PUBLISHED-TTL:PT15M
X-WR-CALNAME:At My TV
NAME:At My TV
BEGIN:VTIMEZONE
TZID:Europe/London
TZURL:http://tzurl.org/zoneinfo/Europe/London
X-LIC-LOCATION:Europe/London
BEGIN:DAYLIGHT
TZOFFSETFROM:+0000
TZOFFSETTO:+0100
TZNAME:BST
DTSTART:20180325T020000Z
RRULE:FREQ=YEARLY;BYMONTH=3;BYDAY=-1SU
END:DAYLIGHT
BEGIN:STANDARD
TZOFFSETFROM:+0100
TZOFFSETTO:+0000
TZNAME:GMT
DTSTART:20181028T020000Z
RRULE:FREQ=YEARLY;BYMONTH=10;BYDAY=-1SU
END:STANDARD
END:VTIMEZONE
BEGIN:VEVENT
SUMMARY:Forged in Fire 5x23 - The Sawback Hunting Sword
DTSTAMP:20180801T115702Z
SEQUENCE:0
UID:90383-2-841ebed20eb198c4569419e99b7bf40a@themidnightzone.com
ORGANIZER;CN="Midnight":midnight@themidnightzone.com
DESCRIPTION:Four bladesmiths are taken out of the forge and transported 
	tothe great outdoors\, where they struggle to forge a blade inthe noonday 
	sun. They must forage for outdoor materials andcrank a coal forge\, which 
	leaves some scrambling to the end.After a second smith falters during test
	ing\, the two remainingsmiths return to their home forges to create the ul
	timatewilderness weapon: the German sawback hunting sword.
DTSTART:20180815T010000Z
DTEND:20180815T020000Z
END:VEVENT
END:VCALENDAR
