BEGIN:VCALENDAR
VERSION:2.0
PRODID:-//InvisionCommunity Events 4.7.23//EN
METHOD:PUBLISH
CALSCALE:GREGORIAN
REFRESH-INTERVAL:PT15M
X-PUBLISHED-TTL:PT15M
X-WR-CALNAME:At My TV
NAME:At My TV
BEGIN:VTIMEZONE
TZID:Europe/London
TZURL:http://tzurl.org/zoneinfo/Europe/London
X-LIC-LOCATION:Europe/London
BEGIN:DAYLIGHT
TZOFFSETFROM:+0000
TZOFFSETTO:+0100
TZNAME:BST
DTSTART:20180325T020000Z
RRULE:FREQ=YEARLY;BYMONTH=3;BYDAY=-1SU
END:DAYLIGHT
BEGIN:STANDARD
TZOFFSETFROM:+0100
TZOFFSETTO:+0000
TZNAME:GMT
DTSTART:20181028T020000Z
RRULE:FREQ=YEARLY;BYMONTH=10;BYDAY=-1SU
END:STANDARD
END:VTIMEZONE
BEGIN:VEVENT
SUMMARY:World of Dance 2x12 - The Duels 4
DTSTAMP:20180802T115702Z
SEQUENCE:0
UID:90430-2-841ebed20eb198c4569419e99b7bf40a@themidnightzone.com
ORGANIZER;CN="Midnight":midnight@themidnightzone.com
DESCRIPTION:The Duels round continues with judges Jennifer Lopez\, Derek
	Hough\, NE-YO and host/mentor Jenna Dewan. In this round\, thetop qualifyi
	ng acts from each division will choose a rival andface off in a head-to-he
	ad elimination duel. The judges willscore each act based on their artistry
	\, precision andathleticism\, and the top scoring act from each duel will 
	moveforward in the competition and be one step closer to winning agrand pr
	ize of  million.
DTSTART:20180816T010000Z
DTEND:20180816T030000Z
END:VEVENT
END:VCALENDAR
