BEGIN:VCALENDAR
VERSION:2.0
PRODID:-//InvisionCommunity Events 4.7.23//EN
METHOD:PUBLISH
CALSCALE:GREGORIAN
REFRESH-INTERVAL:PT15M
X-PUBLISHED-TTL:PT15M
X-WR-CALNAME:At My TV
NAME:At My TV
BEGIN:VTIMEZONE
TZID:Europe/London
TZURL:http://tzurl.org/zoneinfo/Europe/London
X-LIC-LOCATION:Europe/London
BEGIN:DAYLIGHT
TZOFFSETFROM:+0000
TZOFFSETTO:+0100
TZNAME:BST
DTSTART:20180325T020000Z
RRULE:FREQ=YEARLY;BYMONTH=3;BYDAY=-1SU
END:DAYLIGHT
BEGIN:STANDARD
TZOFFSETFROM:+0100
TZOFFSETTO:+0000
TZNAME:GMT
DTSTART:20181028T020000Z
RRULE:FREQ=YEARLY;BYMONTH=10;BYDAY=-1SU
END:STANDARD
END:VTIMEZONE
BEGIN:VEVENT
SUMMARY:The History of Comedy 2x6 - No Offense (Going Clean/Flipping
	Funny)
DTSTAMP:20180806T115703Z
SEQUENCE:0
UID:90607-2-841ebed20eb198c4569419e99b7bf40a@themidnightzone.com
ORGANIZER;CN="Midnight":midnight@themidnightzone.com
DESCRIPTION:There has always been a need for family-friendly comedy\, an
	dmany artists have taken the task despite the inherentchallenges. Comedian
	s like Jerry Seinfeld\, Jim Gaffigan\,Ellen DeGeneres and Sinbad found suc
	cess on stage \"workingclean.\" For comedians like Bob Saget\, Tim Allen\,
	 and WhitneyCummings\, they found themselves altering their comedic voices
	when they landed lead roles on network sitcoms. Writers fortelevision show
	s across every era – from I Love Lucy and InLiving Color\, to Will &amp\
	; Grace and Modern Family havealways found creative ways to use euphemisms
	 and innuendo\,while still abiding by the rules set by the what were often
	strict network censors.
DTSTART:20180820T020000Z
DTEND:20180820T030000Z
END:VEVENT
END:VCALENDAR
