BEGIN:VCALENDAR
VERSION:2.0
PRODID:-//InvisionCommunity Events 4.7.23//EN
METHOD:PUBLISH
CALSCALE:GREGORIAN
REFRESH-INTERVAL:PT15M
X-PUBLISHED-TTL:PT15M
X-WR-CALNAME:Pogdesign
NAME:Pogdesign
BEGIN:VTIMEZONE
TZID:Europe/London
TZURL:http://tzurl.org/zoneinfo/Europe/London
X-LIC-LOCATION:Europe/London
BEGIN:DAYLIGHT
TZOFFSETFROM:+0000
TZOFFSETTO:+0100
TZNAME:BST
DTSTART:20180325T020000Z
RRULE:FREQ=YEARLY;BYMONTH=3;BYDAY=-1SU
END:DAYLIGHT
BEGIN:STANDARD
TZOFFSETFROM:+0100
TZOFFSETTO:+0000
TZNAME:GMT
DTSTART:20181028T020000Z
RRULE:FREQ=YEARLY;BYMONTH=10;BYDAY=-1SU
END:STANDARD
END:VTIMEZONE
BEGIN:VEVENT
SUMMARY:Chesapeake Shores 3x4 - Once Upon Ever After
DTSTAMP:20180813T075659Z
SEQUENCE:0
UID:90920-3-841ebed20eb198c4569419e99b7bf40a@themidnightzone.com
ORGANIZER;CN="Midnight":midnight@themidnightzone.com
DESCRIPTION:Abby joins Trace on tour with his band away from ChesapeakeS
	hores but discovers that Trace's fame may impact her family'sprivacy. Thou
	gh she enjoys seeing Trace in his elementperforming\, Abby is shocked when
	 paparazzi photos of themtogether surface and worries the attention will o
	nly get worseas Trace's celebrity rises. Mick and Megan spend more timetog
	ether as they help Thomas prepare for his vow renewalceremony and experien
	ce a closeness they haven't felt in years.The vow renewal ceremony also br
	ings Connor and Kevin closertogether\, as Nell assigns them a time-consumi
	ng task thatforces them to work out their differences. Meanwhile\, Jesscon
	siders starting a life with David away from ChesapeakeShores\, but Bree ma
	kes a troubling discovery about David's momthat causes both of the O'Brien
	 sisters to question Jess'relationship.
DTSTART:20180826T210000Z
DTEND:20180826T220000Z
END:VEVENT
END:VCALENDAR
