BEGIN:VCALENDAR
VERSION:2.0
PRODID:-//InvisionCommunity Events 4.7.23//EN
METHOD:PUBLISH
CALSCALE:GREGORIAN
REFRESH-INTERVAL:PT15M
X-PUBLISHED-TTL:PT15M
X-WR-CALNAME:Pogdesign
NAME:Pogdesign
BEGIN:VTIMEZONE
TZID:Europe/London
TZURL:http://tzurl.org/zoneinfo/Europe/London
X-LIC-LOCATION:Europe/London
BEGIN:DAYLIGHT
TZOFFSETFROM:+0000
TZOFFSETTO:+0100
TZNAME:BST
DTSTART:20180325T020000Z
RRULE:FREQ=YEARLY;BYMONTH=3;BYDAY=-1SU
END:DAYLIGHT
BEGIN:STANDARD
TZOFFSETFROM:+0100
TZOFFSETTO:+0000
TZNAME:GMT
DTSTART:20181028T020000Z
RRULE:FREQ=YEARLY;BYMONTH=10;BYDAY=-1SU
END:STANDARD
END:VTIMEZONE
BEGIN:VEVENT
SUMMARY:Chesapeake Shores 3x6 - Here and There
DTSTAMP:20180827T075701Z
SEQUENCE:0
UID:91481-3-841ebed20eb198c4569419e99b7bf40a@themidnightzone.com
ORGANIZER;CN="Midnight":midnight@themidnightzone.com
DESCRIPTION:Abby learns her ex-husband is in a serious relationshipnavig
	ates their new family dynamic. Abby misses Trace by herside as she explore
	s the new co-parenting roles with Wes andhis girlfriend. Pulled in many di
	rections with workobligations\, Trace misses out on family moments with Ab
	by andthe girls. Mick and Megan's relationship continues to evolve\,but is
	 influenced by their past. Having worked independentlyfor months\, Jess ad
	justs to David's return to the bed andbreakfast. Also adjusting to a man i
	n her life is Bree\, whoattempts to define her partially professional\, pa
	rtiallyromantic relationship with Simon. At the Chesapeake Shores FireDepa
	rtment\, Kevin enjoys a week of on-the-job training withSarah. Meanwhile\,
	 Nell recruits Connor to investigate acontestant who is breaking the rules
	 in an annual gardeningcompetition\, but a surprising discovery makes her 
	rethink theplan.
DTSTART:20180909T210000Z
DTEND:20180909T220000Z
END:VEVENT
END:VCALENDAR
