BEGIN:VCALENDAR
VERSION:2.0
PRODID:-//InvisionCommunity Events 4.7.23//EN
METHOD:PUBLISH
CALSCALE:GREGORIAN
REFRESH-INTERVAL:PT15M
X-PUBLISHED-TTL:PT15M
X-WR-CALNAME:Pogdesign
NAME:Pogdesign
BEGIN:VTIMEZONE
TZID:Europe/London
TZURL:http://tzurl.org/zoneinfo/Europe/London
X-LIC-LOCATION:Europe/London
BEGIN:DAYLIGHT
TZOFFSETFROM:+0000
TZOFFSETTO:+0100
TZNAME:BST
DTSTART:20180325T020000Z
RRULE:FREQ=YEARLY;BYMONTH=3;BYDAY=-1SU
END:DAYLIGHT
BEGIN:STANDARD
TZOFFSETFROM:+0100
TZOFFSETTO:+0000
TZNAME:GMT
DTSTART:20181028T020000Z
RRULE:FREQ=YEARLY;BYMONTH=10;BYDAY=-1SU
END:STANDARD
END:VTIMEZONE
BEGIN:VEVENT
SUMMARY:Chesapeake Shores 3x7 - It's Just Business
DTSTAMP:20180903T075701Z
SEQUENCE:0
UID:91787-3-841ebed20eb198c4569419e99b7bf40a@themidnightzone.com
ORGANIZER;CN="Midnight":midnight@themidnightzone.com
DESCRIPTION:Trace discovers that The Bridge has fallen into debt while h
	ewas on tour in and tries to repair the damage. Trace'sdiscovery prompts M
	ick to reconsider the terms of theirpartnership and to put aside friendshi
	p and family whenbusiness is at stake. Abby works to try and balance herst
	ressful workload with being a \"super mom\" to keepup with Wes' new fianc
	é. Jess is suspicious when David'ssister arrives in town looking for help
	 with the business. Breeasks Nell to read her manuscript\, but realizes th
	e real testwill come when she gives it to Megan. When Kevin doesn'treceive
	 a job offer near Chesapeake Shores\, Sarah considersrelocating for a drea
	m job. Facing relationship troubles of hisown\, Connor goes up against an 
	ex-girlfriend in court.Meanwhile\, Megan plays hardball when the mayor eli
	minates herjob at the Arts Council.
DTSTART:20180916T210000Z
DTEND:20180916T220000Z
END:VEVENT
END:VCALENDAR
