BEGIN:VCALENDAR
VERSION:2.0
PRODID:-//InvisionCommunity Events 4.7.23//EN
METHOD:PUBLISH
CALSCALE:GREGORIAN
REFRESH-INTERVAL:PT15M
X-PUBLISHED-TTL:PT15M
X-WR-CALNAME:At My TV
NAME:At My TV
BEGIN:VTIMEZONE
TZID:Europe/London
TZURL:http://tzurl.org/zoneinfo/Europe/London
X-LIC-LOCATION:Europe/London
BEGIN:DAYLIGHT
TZOFFSETFROM:+0000
TZOFFSETTO:+0100
TZNAME:BST
DTSTART:20180325T020000Z
RRULE:FREQ=YEARLY;BYMONTH=3;BYDAY=-1SU
END:DAYLIGHT
BEGIN:STANDARD
TZOFFSETFROM:+0100
TZOFFSETTO:+0000
TZNAME:GMT
DTSTART:20181028T020000Z
RRULE:FREQ=YEARLY;BYMONTH=10;BYDAY=-1SU
END:STANDARD
END:VTIMEZONE
BEGIN:VEVENT
SUMMARY:S.W.A.T. 2x1 - Shaky Town
DTSTAMP:20180914T115702Z
SEQUENCE:0
UID:92342-2-841ebed20eb198c4569419e99b7bf40a@themidnightzone.com
ORGANIZER;CN="Midnight":midnight@themidnightzone.com
DESCRIPTION:The SWAT team engages in a standoff with human traffickersho
	lding child hostages when a major earthquake hits Los Angelesduring their 
	operation and compromises the takedown. Also\,while Hondo forms an unexpec
	ted personal connection with DeputyDistrict Attorney Nia Wells (Nikiva Dio
	nne)\, Jim Street hastrouble adjusting to his new life as a patrol officer
	.
DTSTART:20180928T020500Z
DTEND:20180928T030500Z
END:VEVENT
END:VCALENDAR
