BEGIN:VCALENDAR
VERSION:2.0
PRODID:-//InvisionCommunity Events 4.7.23//EN
METHOD:PUBLISH
CALSCALE:GREGORIAN
REFRESH-INTERVAL:PT15M
X-PUBLISHED-TTL:PT15M
X-WR-CALNAME:Pogdesign
NAME:Pogdesign
BEGIN:VTIMEZONE
TZID:Europe/London
TZURL:http://tzurl.org/zoneinfo/Europe/London
X-LIC-LOCATION:Europe/London
BEGIN:DAYLIGHT
TZOFFSETFROM:+0000
TZOFFSETTO:+0100
TZNAME:BST
DTSTART:20180325T020000Z
RRULE:FREQ=YEARLY;BYMONTH=3;BYDAY=-1SU
END:DAYLIGHT
BEGIN:STANDARD
TZOFFSETFROM:+0100
TZOFFSETTO:+0000
TZNAME:GMT
DTSTART:20181028T020000Z
RRULE:FREQ=YEARLY;BYMONTH=10;BYDAY=-1SU
END:STANDARD
END:VTIMEZONE
BEGIN:VEVENT
SUMMARY:Upstart Crow 3x6 - Go On and I Will Follow
DTSTAMP:20180919T075702Z
SEQUENCE:0
UID:92557-3-841ebed20eb198c4569419e99b7bf40a@themidnightzone.com
ORGANIZER;CN="Midnight":midnight@themidnightzone.com
DESCRIPTION:The day of Will's son Hamnet's confirmation is approaching a
	ndAnne has made sure it's been in Will's diary for months. Theonly problem
	 is this also turns out to be the night of thefirst ever London Theatre Aw
	ards\, and\, what with Will beingthe greatest writer of all time\, and wha
	t with all the othertheatre companies in London being closed all year beca
	use ofthe plague\, Will reckons he may be in with a chance of aprize. And 
	there's another dilemma: if Will does go the LondonTheatre Awards\, who is
	 going to be his plus one? He's heardthat his favourite dark lady\, Emilia
	 Laier\, may be free thatevening... But as Will wrestles with the temptati
	on of theLondon theatre there is a far bigger threat to his family'shappin
	ess lurking in the wings.
DTSTART:20181003T163000Z
DTEND:20181003T170000Z
END:VEVENT
END:VCALENDAR
