BEGIN:VCALENDAR
VERSION:2.0
PRODID:-//InvisionCommunity Events 4.7.23//EN
METHOD:PUBLISH
CALSCALE:GREGORIAN
REFRESH-INTERVAL:PT15M
X-PUBLISHED-TTL:PT15M
X-WR-CALNAME:Pogdesign
NAME:Pogdesign
BEGIN:VTIMEZONE
TZID:Europe/London
TZURL:http://tzurl.org/zoneinfo/Europe/London
X-LIC-LOCATION:Europe/London
BEGIN:DAYLIGHT
TZOFFSETFROM:+0000
TZOFFSETTO:+0100
TZNAME:BST
DTSTART:20180325T020000Z
RRULE:FREQ=YEARLY;BYMONTH=3;BYDAY=-1SU
END:DAYLIGHT
BEGIN:STANDARD
TZOFFSETFROM:+0100
TZOFFSETTO:+0000
TZNAME:GMT
DTSTART:20181028T020000Z
RRULE:FREQ=YEARLY;BYMONTH=10;BYDAY=-1SU
END:STANDARD
END:VTIMEZONE
BEGIN:VEVENT
SUMMARY:The Deuce 2x5 - All You'll Be Eating is Cannibals
DTSTAMP:20180924T075701Z
SEQUENCE:0
UID:92850-3-841ebed20eb198c4569419e99b7bf40a@themidnightzone.com
ORGANIZER;CN="Midnight":midnight@themidnightzone.com
DESCRIPTION:Temporarily flush with cash\, Frankie is tapped by Candy to 
	bea co-producer on Red Hot. Lori eyes a plum role in the film\,but still f
	eels the burden of being under C.C'.s yoke. WithRudy's blessing\, Big Mike
	 and Black Frankie hit a gamblinghouse in the Bronx. Bobby finds himself s
	tigmatized at home andat the Hi-Hat after a surprise raid overseen by Alst
	on. Paulencounters resistance to his elaborate renovation plans. Out ofreh
	ab\, Shay is convinced to move in with a nurturing Irene. Asshe and Abby d
	eliver on their promise to provide medical careto sex workers\, Ashley dec
	ides to confront her past... anddoesn't blink.
DTSTART:20181007T210000Z
DTEND:20181007T220000Z
END:VEVENT
END:VCALENDAR
