BEGIN:VCALENDAR
VERSION:2.0
PRODID:-//InvisionCommunity Events 4.7.23//EN
METHOD:PUBLISH
CALSCALE:GREGORIAN
REFRESH-INTERVAL:PT15M
X-PUBLISHED-TTL:PT15M
X-WR-CALNAME:Pogdesign
NAME:Pogdesign
BEGIN:VTIMEZONE
TZID:Europe/London
TZURL:http://tzurl.org/zoneinfo/Europe/London
X-LIC-LOCATION:Europe/London
BEGIN:DAYLIGHT
TZOFFSETFROM:+0000
TZOFFSETTO:+0100
TZNAME:BST
DTSTART:20180325T020000Z
RRULE:FREQ=YEARLY;BYMONTH=3;BYDAY=-1SU
END:DAYLIGHT
BEGIN:STANDARD
TZOFFSETFROM:+0100
TZOFFSETTO:+0000
TZNAME:GMT
DTSTART:20181028T020000Z
RRULE:FREQ=YEARLY;BYMONTH=10;BYDAY=-1SU
END:STANDARD
END:VTIMEZONE
BEGIN:VEVENT
SUMMARY:Wanderlust 1x6 - Series 1\, Episode 6
DTSTAMP:20180925T075701Z
SEQUENCE:0
UID:92919-3-841ebed20eb198c4569419e99b7bf40a@themidnightzone.com
ORGANIZER;CN="Midnight":midnight@themidnightzone.com
DESCRIPTION:Joy and Alan face up to the seismic changes in their lives a
	ndtry to decide if the choices they have made are the right ones.After a t
	ense encounter with Claire\, a lost and lonely Joytakes a risk on love and
	 goes on a bold journey. Tom's newrelationship progresses in a surprising 
	way\, and Laura figuresout exactly what\, and who\, she wants for herself.
	 And Joymakes one final decision about the future.
DTSTART:20181009T170000Z
DTEND:20181009T180000Z
END:VEVENT
END:VCALENDAR
