BEGIN:VCALENDAR
VERSION:2.0
PRODID:-//InvisionCommunity Events 4.7.23//EN
METHOD:PUBLISH
CALSCALE:GREGORIAN
REFRESH-INTERVAL:PT15M
X-PUBLISHED-TTL:PT15M
X-WR-CALNAME:Pogdesign
NAME:Pogdesign
BEGIN:VTIMEZONE
TZID:Europe/London
TZURL:http://tzurl.org/zoneinfo/Europe/London
X-LIC-LOCATION:Europe/London
BEGIN:DAYLIGHT
TZOFFSETFROM:+0000
TZOFFSETTO:+0100
TZNAME:BST
DTSTART:20180325T020000Z
RRULE:FREQ=YEARLY;BYMONTH=3;BYDAY=-1SU
END:DAYLIGHT
BEGIN:STANDARD
TZOFFSETFROM:+0100
TZOFFSETTO:+0000
TZNAME:GMT
DTSTART:20181028T020000Z
RRULE:FREQ=YEARLY;BYMONTH=10;BYDAY=-1SU
END:STANDARD
END:VTIMEZONE
BEGIN:VEVENT
SUMMARY:9-1-1 2x4 - Awful People
DTSTAMP:20180925T075701Z
SEQUENCE:0
UID:92927-3-841ebed20eb198c4569419e99b7bf40a@themidnightzone.com
ORGANIZER;CN="Midnight":midnight@themidnightzone.com
DESCRIPTION:Wanting to see the faces behind the 9-1-1 calls\, Maddie goe
	son a ride-along with Athena\, while dealing with a seemingly\"perfect\" d
	ispatcher back at the call center.Meanwhile\, Hen must figure out how to s
	ave her family frompermanently falling apart\, and the first responders de
	al withemergencies both at a military funeral and a movie theater.
DTSTART:20181008T210000Z
DTEND:20181008T220000Z
END:VEVENT
END:VCALENDAR
