BEGIN:VCALENDAR
VERSION:2.0
PRODID:-//InvisionCommunity Events 4.7.23//EN
METHOD:PUBLISH
CALSCALE:GREGORIAN
REFRESH-INTERVAL:PT15M
X-PUBLISHED-TTL:PT15M
X-WR-CALNAME:Pogdesign
NAME:Pogdesign
BEGIN:VTIMEZONE
TZID:Europe/London
TZURL:http://tzurl.org/zoneinfo/Europe/London
X-LIC-LOCATION:Europe/London
BEGIN:DAYLIGHT
TZOFFSETFROM:+0000
TZOFFSETTO:+0100
TZNAME:BST
DTSTART:20180325T020000Z
RRULE:FREQ=YEARLY;BYMONTH=3;BYDAY=-1SU
END:DAYLIGHT
BEGIN:STANDARD
TZOFFSETFROM:+0100
TZOFFSETTO:+0000
TZNAME:GMT
DTSTART:20181028T020000Z
RRULE:FREQ=YEARLY;BYMONTH=10;BYDAY=-1SU
END:STANDARD
END:VTIMEZONE
BEGIN:VEVENT
SUMMARY:A League of Their Own 13x7 - Geri Horner\, John Terry & Joss
	Widdicombe
DTSTAMP:20180927T075702Z
SEQUENCE:0
UID:93014-3-841ebed20eb198c4569419e99b7bf40a@themidnightzone.com
ORGANIZER;CN="Midnight":midnight@themidnightzone.com
DESCRIPTION:Mad challenges await ex-Spice Girl Geri Horner\, Chelsea leg
	endJohn Terry and funnyman Josh Widdicombe as they team up withJamie\, Fre
	ddie and Romesh for another riotous round of theJames Corden-hosted hit sh
	ow. On the cards this week is a headyheading challenge and a splashing\, s
	lam-dunking race throughwater.
DTSTART:20181011T170000Z
DTEND:20181011T180000Z
END:VEVENT
END:VCALENDAR
