BEGIN:VCALENDAR
VERSION:2.0
PRODID:-//InvisionCommunity Events 4.7.23//EN
METHOD:PUBLISH
CALSCALE:GREGORIAN
REFRESH-INTERVAL:PT15M
X-PUBLISHED-TTL:PT15M
X-WR-CALNAME:Pogdesign
NAME:Pogdesign
BEGIN:VTIMEZONE
TZID:Europe/London
TZURL:http://tzurl.org/zoneinfo/Europe/London
X-LIC-LOCATION:Europe/London
BEGIN:DAYLIGHT
TZOFFSETFROM:+0000
TZOFFSETTO:+0100
TZNAME:BST
DTSTART:20180325T020000Z
RRULE:FREQ=YEARLY;BYMONTH=3;BYDAY=-1SU
END:DAYLIGHT
BEGIN:STANDARD
TZOFFSETFROM:+0100
TZOFFSETTO:+0000
TZNAME:GMT
DTSTART:20181028T020000Z
RRULE:FREQ=YEARLY;BYMONTH=10;BYDAY=-1SU
END:STANDARD
END:VTIMEZONE
BEGIN:VEVENT
SUMMARY:Will & Grace 10x2 - Where in the World Is Karen Walker?
DTSTAMP:20180928T075701Z
SEQUENCE:0
UID:93095-3-841ebed20eb198c4569419e99b7bf40a@themidnightzone.com
ORGANIZER;CN="Midnight":midnight@themidnightzone.com
DESCRIPTION:Will\, Grace\, and Jack are upset when they discover they've
	been too preoccupied with the changes in their own lives: Willteaching law
	 at Columbia\, Grace running for president of theNew York Interior Designe
	rs Society and Jack's new relationshipwith Estefan to even notice Karen ha
	s not been seen in days -ever since her husband found out about her affair
	 with Malcolm.
DTSTART:20181011T210000Z
DTEND:20181011T213000Z
END:VEVENT
END:VCALENDAR
