BEGIN:VCALENDAR
VERSION:2.0
PRODID:-//InvisionCommunity Events 4.7.23//EN
METHOD:PUBLISH
CALSCALE:GREGORIAN
REFRESH-INTERVAL:PT15M
X-PUBLISHED-TTL:PT15M
X-WR-CALNAME:Pogdesign
NAME:Pogdesign
BEGIN:VTIMEZONE
TZID:Europe/London
TZURL:http://tzurl.org/zoneinfo/Europe/London
X-LIC-LOCATION:Europe/London
BEGIN:DAYLIGHT
TZOFFSETFROM:+0000
TZOFFSETTO:+0100
TZNAME:BST
DTSTART:20180325T020000Z
RRULE:FREQ=YEARLY;BYMONTH=3;BYDAY=-1SU
END:DAYLIGHT
BEGIN:STANDARD
TZOFFSETFROM:+0100
TZOFFSETTO:+0000
TZNAME:GMT
DTSTART:20181028T020000Z
RRULE:FREQ=YEARLY;BYMONTH=10;BYDAY=-1SU
END:STANDARD
END:VTIMEZONE
BEGIN:VEVENT
SUMMARY:Strictly Come Dancing 16x6 - Week 3 Results
DTSTAMP:20180928T075701Z
SEQUENCE:0
UID:93104-3-841ebed20eb198c4569419e99b7bf40a@themidnightzone.com
ORGANIZER;CN="Midnight":midnight@themidnightzone.com
DESCRIPTION:Claudia Winkleman and Tess Daly reveal the two couples who h
	avethe lowest combined judges' score and viewer vote\, and must gohead to 
	head in a dance-off to decide which of them will beeliminated from the con
	test. Plus\, a performance by GladysKnight\, singing her 1989 James Bond t
	heme song Licence toKill\, and a group performance from the professionals 
	with avery modern take on the all-time classic Singin' in the Rain.
DTSTART:20181007T151500Z
DTEND:20181007T164500Z
END:VEVENT
END:VCALENDAR
