BEGIN:VCALENDAR
VERSION:2.0
PRODID:-//InvisionCommunity Events 4.7.23//EN
METHOD:PUBLISH
CALSCALE:GREGORIAN
REFRESH-INTERVAL:PT15M
X-PUBLISHED-TTL:PT15M
X-WR-CALNAME:Pogdesign
NAME:Pogdesign
BEGIN:VTIMEZONE
TZID:Europe/London
TZURL:http://tzurl.org/zoneinfo/Europe/London
X-LIC-LOCATION:Europe/London
BEGIN:DAYLIGHT
TZOFFSETFROM:+0000
TZOFFSETTO:+0100
TZNAME:BST
DTSTART:20180325T020000Z
RRULE:FREQ=YEARLY;BYMONTH=3;BYDAY=-1SU
END:DAYLIGHT
BEGIN:STANDARD
TZOFFSETFROM:+0100
TZOFFSETTO:+0000
TZNAME:GMT
DTSTART:20181028T020000Z
RRULE:FREQ=YEARLY;BYMONTH=10;BYDAY=-1SU
END:STANDARD
END:VTIMEZONE
BEGIN:VEVENT
SUMMARY:Strictly Come Dancing 16x7 - Week 4
DTSTAMP:20181012T090202Z
SEQUENCE:0
UID:93915-3-841ebed20eb198c4569419e99b7bf40a@themidnightzone.com
ORGANIZER;CN="Midnight":midnight@themidnightzone.com
DESCRIPTION:Tess Daly and Claudia Winkleman host the next stage of theda
	nce contest\, as the 13 remaining couples take to the floorto impress judg
	es Shirley Ballas\, Craig Revel Horwood\, BrunoTonioli and Darcey Bussell\
	, as well as the viewers\, and avoidbeing eliminated in tomorrow night's r
	esults show. The likes ofFaye Tozer\, Ashley Roberts\, Danny John-Jules an
	d Joe Sugghave all impressed in the opening weeks\, but know they areonly 
	one poor dance away from potentially being sent home.
DTSTART:20181013T151500Z
DTEND:20181013T164500Z
END:VEVENT
END:VCALENDAR
