BEGIN:VCALENDAR
VERSION:2.0
PRODID:-//InvisionCommunity Events 4.7.23//EN
METHOD:PUBLISH
CALSCALE:GREGORIAN
REFRESH-INTERVAL:PT15M
X-PUBLISHED-TTL:PT15M
X-WR-CALNAME:Pogdesign
NAME:Pogdesign
BEGIN:VTIMEZONE
TZID:Europe/London
TZURL:http://tzurl.org/zoneinfo/Europe/London
X-LIC-LOCATION:Europe/London
BEGIN:DAYLIGHT
TZOFFSETFROM:+0000
TZOFFSETTO:+0100
TZNAME:BST
DTSTART:20180325T020000Z
RRULE:FREQ=YEARLY;BYMONTH=3;BYDAY=-1SU
END:DAYLIGHT
BEGIN:STANDARD
TZOFFSETFROM:+0100
TZOFFSETTO:+0000
TZNAME:GMT
DTSTART:20181028T020000Z
RRULE:FREQ=YEARLY;BYMONTH=10;BYDAY=-1SU
END:STANDARD
END:VTIMEZONE
BEGIN:VEVENT
SUMMARY:Hell's Kitchen (US) 18x5 - Fish Out Of Water
DTSTAMP:20181020T090201Z
SEQUENCE:0
UID:94347-3-841ebed20eb198c4569419e99b7bf40a@themidnightzone.com
ORGANIZER;CN="Midnight":midnight@themidnightzone.com
DESCRIPTION:The contestants are greeted by Grammy nominated pianist andc
	omposer\, Stephan Moccio and Chef Ramsay explains that like agreat musicia
	n\, great chefs must be versatile in a widevariety of cooking styles. Duri
	ng the challenge\, each team istasked with cooking halibut 7 different way
	s for Michelin starchef David LeFevre. During the dinner services\, both t
	eamsstruggle with communication and supporting one another whichultimately
	 results in a contestant's elimination. Tune-in tofind out which front-run
	ning contestant is cut\, creating amajor wake-up call for the rest of the 
	chefs.
DTSTART:20181102T210000Z
DTEND:20181102T220000Z
END:VEVENT
END:VCALENDAR
