BEGIN:VCALENDAR
VERSION:2.0
PRODID:-//InvisionCommunity Events 4.7.23//EN
METHOD:PUBLISH
CALSCALE:GREGORIAN
REFRESH-INTERVAL:PT15M
X-PUBLISHED-TTL:PT15M
X-WR-CALNAME:Pogdesign
NAME:Pogdesign
BEGIN:VTIMEZONE
TZID:Europe/London
TZURL:http://tzurl.org/zoneinfo/Europe/London
X-LIC-LOCATION:Europe/London
BEGIN:DAYLIGHT
TZOFFSETFROM:+0000
TZOFFSETTO:+0100
TZNAME:BST
DTSTART:20180325T020000Z
RRULE:FREQ=YEARLY;BYMONTH=3;BYDAY=-1SU
END:DAYLIGHT
BEGIN:STANDARD
TZOFFSETFROM:+0100
TZOFFSETTO:+0000
TZNAME:GMT
DTSTART:20181028T020000Z
RRULE:FREQ=YEARLY;BYMONTH=10;BYDAY=-1SU
END:STANDARD
END:VTIMEZONE
BEGIN:VEVENT
SUMMARY:The Little Drummer Girl 1x2 - Series 1\, Episode 2
DTSTAMP:20181021T090201Z
SEQUENCE:0
UID:94373-3-841ebed20eb198c4569419e99b7bf40a@themidnightzone.com
ORGANIZER;CN="Midnight":midnight@themidnightzone.com
DESCRIPTION:Charlie discovers her holiday romance is with an Israeli sec
	retagent\, and she is recruited by Kurtz to put her acting skillsto the ul
	timate test - infiltrating a militia cell. One of theperpetrators of the G
	erman bombing has been captured\, andCharlie analyses the details of his l
	ife in order to convincepeople that she is his lover and expose the leader
	s of theterrorist cell. However\, as she goes on her first assignmentin th
	e field\, Kurtz realises he has been tricked into sendingher into a trap.
DTSTART:20181104T160000Z
DTEND:20181104T170000Z
END:VEVENT
END:VCALENDAR
